BEGIN:VCALENDAR
VERSION:2.0
PRODID:-//Connect Now - ECPv4.6.21//NONSGML v1.0//EN
CALSCALE:GREGORIAN
METHOD:PUBLISH
X-WR-CALNAME:Connect Now
X-ORIGINAL-URL:https://connectnowbusinessnetwork.com
X-WR-CALDESC:Events for Connect Now
BEGIN:VEVENT
DTSTART;TZID=America/Vancouver:20260803T110000
DTEND;TZID=America/Vancouver:20260803T120000
DTSTAMP:20260424T075025
CREATED:20190505T210230Z
LAST-MODIFIED:20190505T210230Z
UID:17774-1785754800-1785758400@connectnowbusinessnetwork.com
SUMMARY:Online Power Hour
DESCRIPTION:Flailing with style – the honest truth about being your own boss \nJoin us for our newest online segment where we’ll be exploring the unspoken challenges that come with running a business. Discover tools and strategies for conquering the invisible obstacles that leave many business owners burnt out and overwhelmed. \nJoin us on our Facebook page!\nwww.faebook.com/connectnowcommunity \n\n\n\n                                    \n                                        \n                                    \n                              \n\n                                    \n                                        \n                                    \n                              \n\n                                    \n                                        \n                                    \n                              \n\n                                    \n                                        \n                                    \n                              \n\n                                    \n                                        \n                                    \n                              \n\n
URL:https://connectnowbusinessnetwork.com/event/online-power-hour/2026-08-03/
CATEGORIES:Online Meeting
ATTACH;FMTTYPE=image/jpeg:https://connectnowbusinessnetwork.com/wp-content/uploads/2018/08/leader-guide-bg-1.jpg
END:VEVENT
END:VCALENDAR